BEGIN:VCALENDAR
VERSION:2.0
PRODID:-//Vrije Baptisten Gemeente Elim Heerenveen - ECPv6.15.17.1//NONSGML v1.0//EN
CALSCALE:GREGORIAN
METHOD:PUBLISH
X-WR-CALNAME:Vrije Baptisten Gemeente Elim Heerenveen
X-ORIGINAL-URL:https://vbgheerenveen.nl/start
X-WR-CALDESC:Evenementen voor Vrije Baptisten Gemeente Elim Heerenveen
REFRESH-INTERVAL;VALUE=DURATION:PT1H
X-Robots-Tag:noindex
X-PUBLISHED-TTL:PT1H
BEGIN:VTIMEZONE
TZID:Europe/Amsterdam
BEGIN:DAYLIGHT
TZOFFSETFROM:+0100
TZOFFSETTO:+0200
TZNAME:CEST
DTSTART:20250330T010000
END:DAYLIGHT
BEGIN:STANDARD
TZOFFSETFROM:+0200
TZOFFSETTO:+0100
TZNAME:CET
DTSTART:20251026T010000
END:STANDARD
BEGIN:DAYLIGHT
TZOFFSETFROM:+0100
TZOFFSETTO:+0200
TZNAME:CEST
DTSTART:20260329T010000
END:DAYLIGHT
BEGIN:STANDARD
TZOFFSETFROM:+0200
TZOFFSETTO:+0100
TZNAME:CET
DTSTART:20261025T010000
END:STANDARD
BEGIN:DAYLIGHT
TZOFFSETFROM:+0100
TZOFFSETTO:+0200
TZNAME:CEST
DTSTART:20270328T010000
END:DAYLIGHT
BEGIN:STANDARD
TZOFFSETFROM:+0200
TZOFFSETTO:+0100
TZNAME:CET
DTSTART:20271031T010000
END:STANDARD
END:VTIMEZONE
BEGIN:VEVENT
DTSTART;TZID=Europe/Amsterdam:20260423T093000
DTEND;TZID=Europe/Amsterdam:20260423T110000
DTSTAMP:20260420T063946
CREATED:20260321T082831Z
LAST-MODIFIED:20260321T083057Z
UID:12341-1776936600-1776942000@vbgheerenveen.nl
SUMMARY:Crea-Doe Ochtend
DESCRIPTION:Onze crea doe kring is op donderdagochtend om 09.30 uur. Wij beginnen\naltijd met koffie. \nOnder begeleiding maken we iets leuks\, wat van te voren bedacht is.\nDit kan met verf\, handwerk\, een stukje\, etc. je eigen fantasie is je beperking!\nGouden handjes is niet nodig\, wij staan klaar om te helpen. \nKom een keertje langs om te zien of dit iets voor jou is.\nToch nog vragen? Ook creadoe@vbgheerenveen.nl staat voor je klaar. \nDe data zijn:\n26 februari (piepschuimbal)\n12 maart (hoesje)\n26 maart (paasstuk)\n23 april (nnb)\n7 mei (nnb) \n 
URL:https://vbgheerenveen.nl/start/agenda/crea-ochtend-23-4/
LOCATION:Skoatterhûs\, Van Leeuwenhoekweg 8\, Oudeschoot\, Friesland\, 8451CN\, Nederland
CATEGORIES:Ochtend,Workshop
ATTACH;FMTTYPE=image/jpeg:https://vbgheerenveen.nl/start/wp-content/uploads/2022/11/Crea-Ochtend-1.jpg
END:VEVENT
BEGIN:VEVENT
DTSTART;TZID=Europe/Amsterdam:20260507T093000
DTEND;TZID=Europe/Amsterdam:20260507T110000
DTSTAMP:20260420T063946
CREATED:20260321T083140Z
LAST-MODIFIED:20260321T083222Z
UID:12345-1778146200-1778151600@vbgheerenveen.nl
SUMMARY:Crea-Doe Ochtend
DESCRIPTION:Onze crea doe kring is op donderdagochtend om 09.30 uur. Wij beginnen\naltijd met koffie. \nOnder begeleiding maken we iets leuks\, wat van te voren bedacht is.\nDit kan met verf\, handwerk\, een stukje\, etc. je eigen fantasie is je beperking!\nGouden handjes is niet nodig\, wij staan klaar om te helpen. \nKom een keertje langs om te zien of dit iets voor jou is.\nToch nog vragen? Ook creadoe@vbgheerenveen.nl staat voor je klaar. \nDe data zijn:\n26 februari (piepschuimbal)\n12 maart (hoesje)\n26 maart (paasstuk)\n23 april (nnb)\n7 mei (nnb) \n 
URL:https://vbgheerenveen.nl/start/agenda/crea-ochtend-7-5/
LOCATION:Skoatterhûs\, Van Leeuwenhoekweg 8\, Oudeschoot\, Friesland\, 8451CN\, Nederland
CATEGORIES:Ochtend,Workshop
ATTACH;FMTTYPE=image/jpeg:https://vbgheerenveen.nl/start/wp-content/uploads/2022/11/Crea-Ochtend-1.jpg
END:VEVENT
END:VCALENDAR