BEGIN:VCALENDAR
VERSION:2.0
PRODID:-//Vrije Baptisten Gemeente Elim Heerenveen - ECPv6.15.17.1//NONSGML v1.0//EN
CALSCALE:GREGORIAN
METHOD:PUBLISH
X-ORIGINAL-URL:https://vbgheerenveen.nl/start
X-WR-CALDESC:Evenementen voor Vrije Baptisten Gemeente Elim Heerenveen
REFRESH-INTERVAL;VALUE=DURATION:PT1H
X-Robots-Tag:noindex
X-PUBLISHED-TTL:PT1H
BEGIN:VTIMEZONE
TZID:Europe/Amsterdam
BEGIN:DAYLIGHT
TZOFFSETFROM:+0100
TZOFFSETTO:+0200
TZNAME:CEST
DTSTART:20210328T010000
END:DAYLIGHT
BEGIN:STANDARD
TZOFFSETFROM:+0200
TZOFFSETTO:+0100
TZNAME:CET
DTSTART:20211031T010000
END:STANDARD
BEGIN:DAYLIGHT
TZOFFSETFROM:+0100
TZOFFSETTO:+0200
TZNAME:CEST
DTSTART:20220327T010000
END:DAYLIGHT
BEGIN:STANDARD
TZOFFSETFROM:+0200
TZOFFSETTO:+0100
TZNAME:CET
DTSTART:20221030T010000
END:STANDARD
BEGIN:DAYLIGHT
TZOFFSETFROM:+0100
TZOFFSETTO:+0200
TZNAME:CEST
DTSTART:20230326T010000
END:DAYLIGHT
BEGIN:STANDARD
TZOFFSETFROM:+0200
TZOFFSETTO:+0100
TZNAME:CET
DTSTART:20231029T010000
END:STANDARD
BEGIN:DAYLIGHT
TZOFFSETFROM:+0100
TZOFFSETTO:+0200
TZNAME:CEST
DTSTART:20240331T010000
END:DAYLIGHT
BEGIN:STANDARD
TZOFFSETFROM:+0200
TZOFFSETTO:+0100
TZNAME:CET
DTSTART:20241027T010000
END:STANDARD
BEGIN:DAYLIGHT
TZOFFSETFROM:+0100
TZOFFSETTO:+0200
TZNAME:CEST
DTSTART:20250330T010000
END:DAYLIGHT
BEGIN:STANDARD
TZOFFSETFROM:+0200
TZOFFSETTO:+0100
TZNAME:CET
DTSTART:20251026T010000
END:STANDARD
BEGIN:DAYLIGHT
TZOFFSETFROM:+0100
TZOFFSETTO:+0200
TZNAME:CEST
DTSTART:20260329T010000
END:DAYLIGHT
BEGIN:STANDARD
TZOFFSETFROM:+0200
TZOFFSETTO:+0100
TZNAME:CET
DTSTART:20261025T010000
END:STANDARD
BEGIN:DAYLIGHT
TZOFFSETFROM:+0100
TZOFFSETTO:+0200
TZNAME:CEST
DTSTART:20270328T010000
END:DAYLIGHT
BEGIN:STANDARD
TZOFFSETFROM:+0200
TZOFFSETTO:+0100
TZNAME:CET
DTSTART:20271031T010000
END:STANDARD
END:VTIMEZONE
BEGIN:VEVENT
DTSTART;TZID=Europe/Amsterdam:20260416T090000
DTEND;TZID=Europe/Amsterdam:20260416T110000
DTSTAMP:20260420T081631
CREATED:20260321T083609Z
LAST-MODIFIED:20260321T084037Z
UID:12348-1776330000-1776337200@vbgheerenveen.nl
SUMMARY:Buurt schoonveeg actie!
DESCRIPTION:Samen houden we de wijk schoon! \nDe wijk Oudeschoot en vooral rond Skoatterhus maken wij vrij van zwerfafval.\nWilt u een keertje meehelpen? Meldt je via het contactformulier Contact. \nHet materiaal om schoon te maken hebben wij al beschikbaar\, zie foto.\nWij beginnen altijd samen vanaf Skoatterhus. \n 
URL:https://vbgheerenveen.nl/start/agenda/crea-ochtend-16-4/
LOCATION:Skoatterhûs\, Van Leeuwenhoekweg 8\, Oudeschoot\, Friesland\, 8451CN\, Nederland
CATEGORIES:Ochtend,Speciaal
ATTACH;FMTTYPE=image/jpeg:https://vbgheerenveen.nl/start/wp-content/uploads/2026/03/Buurtschoon.jpeg
ORGANIZER;CN="VBG":MAILTO:info@vbgheerenveen.nl
END:VEVENT
BEGIN:VEVENT
DTSTART;TZID=Europe/Amsterdam:20260326T093000
DTEND;TZID=Europe/Amsterdam:20260326T110000
DTSTAMP:20260420T081631
CREATED:20241227T232813Z
LAST-MODIFIED:20260321T082733Z
UID:10769-1774517400-1774522800@vbgheerenveen.nl
SUMMARY:Crea-Doe Ochtend
DESCRIPTION:Onze crea doe kring is op donderdagochtend om 09.30 uur. Wij beginnen\naltijd met koffie. \nOnder begeleiding maken we iets leuks\, wat van te voren bedacht is.\nDit kan met verf\, handwerk\, een stukje\, etc. je eigen fantasie is je beperking!\nGouden handjes is niet nodig\, wij staan klaar om te helpen. \nKom een keertje langs om te zien of dit iets voor jou is.\nToch nog vragen? Ook creadoe@vbgheerenveen.nl staat voor je klaar. \nDe data zijn:\n26 februari (piepschuimbal)\n12 maart (hoesje)\n26 maart (paasstuk)\n23 april (nnb)\n7 mei (nnb) \n 
URL:https://vbgheerenveen.nl/start/agenda/crea-ochtend-26-3/
LOCATION:Skoatterhûs\, Van Leeuwenhoekweg 8\, Oudeschoot\, Friesland\, 8451CN\, Nederland
CATEGORIES:Ochtend,Workshop
ATTACH;FMTTYPE=image/jpeg:https://vbgheerenveen.nl/start/wp-content/uploads/2022/11/Crea-Ochtend-1.jpg
ORGANIZER;CN="VBG":MAILTO:info@vbgheerenveen.nl
END:VEVENT
BEGIN:VEVENT
DTSTART;TZID=Europe/Amsterdam:20250213T093000
DTEND;TZID=Europe/Amsterdam:20250213T110000
DTSTAMP:20260420T081631
CREATED:20241227T232718Z
LAST-MODIFIED:20241227T232805Z
UID:10766-1739439000-1739444400@vbgheerenveen.nl
SUMMARY:Crea-Doe Ochtend
DESCRIPTION:Onze crea doe kring is op donderdagochtend om 09.30 uur. Wij beginnen\naltijd met koffie en een van ons zorgt dat er een lekkere koek bij is. \nEen van de anderen verzorgt de inleiding\, we praten er nog even over na en\nwe zingen uit de opwekkingsbundel.\nDan begint het eigenlijke werk: knutselen of handwerken. We maken iets\nleuks dat wij bedacht hebben\, maar je eigen handwerkje meenemen is ook\ngoed.\nDe data zijn: 16 en 30 januari en 13 en 27 februari. \nNieuwsgierig geworden? Kom gerust een keer kijken. Je hoeft echt geen\ngouden handjes te hebben\, wij staan klaar om te helpen!
URL:https://vbgheerenveen.nl/start/agenda/crea-ochtend-13-2/
LOCATION:Skoatterhûs\, Van Leeuwenhoekweg 8\, Oudeschoot\, Friesland\, 8451CN\, Nederland
CATEGORIES:Ochtend
ATTACH;FMTTYPE=image/jpeg:https://vbgheerenveen.nl/start/wp-content/uploads/2022/11/Crea-Ochtend-1.jpg
END:VEVENT
BEGIN:VEVENT
DTSTART;TZID=Europe/Amsterdam:20250130T093000
DTEND;TZID=Europe/Amsterdam:20250130T110000
DTSTAMP:20260420T081631
CREATED:20241227T234741Z
LAST-MODIFIED:20241227T234814Z
UID:10803-1738229400-1738234800@vbgheerenveen.nl
SUMMARY:Crea-Doe Ochtend
DESCRIPTION:Onze crea doe kring is op donderdagochtend om 09.30 uur. Wij beginnen\naltijd met koffie en een van ons zorgt dat er een lekkere koek bij is. \nEen van de anderen verzorgt de inleiding\, we praten er nog even over na en\nwe zingen uit de opwekkingsbundel.\nDan begint het eigenlijke werk: knutselen of handwerken. We maken iets\nleuks dat wij bedacht hebben\, maar je eigen handwerkje meenemen is ook\ngoed.\nDe data zijn: 16 en 30 januari en 13 en 27 februari. \nNieuwsgierig geworden? Kom gerust een keer kijken. Je hoeft echt geen\ngouden handjes te hebben\, wij staan klaar om te helpen!
URL:https://vbgheerenveen.nl/start/agenda/crea-ochtend-30-1-2/
LOCATION:Skoatterhûs\, Van Leeuwenhoekweg 8\, Oudeschoot\, Friesland\, 8451CN\, Nederland
CATEGORIES:Ochtend
ATTACH;FMTTYPE=image/jpeg:https://vbgheerenveen.nl/start/wp-content/uploads/2022/11/Crea-Ochtend-1.jpg
END:VEVENT
BEGIN:VEVENT
DTSTART;TZID=Europe/Amsterdam:20250116T093000
DTEND;TZID=Europe/Amsterdam:20250116T110000
DTSTAMP:20260420T081631
CREATED:20241227T232255Z
LAST-MODIFIED:20241227T232707Z
UID:10759-1737019800-1737025200@vbgheerenveen.nl
SUMMARY:Crea-Doe Ochtend
DESCRIPTION:Onze crea doe kring is op donderdagochtend om 09.30 uur. Wij beginnen\naltijd met koffie en een van ons zorgt dat er een lekkere koek bij is. \nEen van de anderen verzorgt de inleiding\, we praten er nog even over na en\nwe zingen uit de opwekkingsbundel.\nDan begint het eigenlijke werk: knutselen of handwerken. We maken iets\nleuks dat wij bedacht hebben\, maar je eigen handwerkje meenemen is ook\ngoed.\nDe data zijn: 16 en 30 januari en 13 en 27 februari. \nNieuwsgierig geworden? Kom gerust een keer kijken. Je hoeft echt geen\ngouden handjes te hebben\, wij staan klaar om te helpen!
URL:https://vbgheerenveen.nl/start/agenda/crea-ochtend-16-1/
LOCATION:Skoatterhûs\, Van Leeuwenhoekweg 8\, Oudeschoot\, Friesland\, 8451CN\, Nederland
CATEGORIES:Ochtend
ATTACH;FMTTYPE=image/jpeg:https://vbgheerenveen.nl/start/wp-content/uploads/2022/11/Crea-Ochtend-1.jpg
END:VEVENT
BEGIN:VEVENT
DTSTART;TZID=Europe/Amsterdam:20241228T093000
DTEND;TZID=Europe/Amsterdam:20241228T110000
DTSTAMP:20260420T081631
CREATED:20241227T232546Z
LAST-MODIFIED:20241227T232637Z
UID:10762-1735378200-1735383600@vbgheerenveen.nl
SUMMARY:Crea-Doe Ochtend
DESCRIPTION:Onze crea doe kring is op donderdagochtend om 09.30 uur. Wij beginnen\naltijd met koffie en een van ons zorgt dat er een lekkere koek bij is. \nEen van de anderen verzorgt de inleiding\, we praten er nog even over na en\nwe zingen uit de opwekkingsbundel.\nDan begint het eigenlijke werk: knutselen of handwerken. We maken iets\nleuks dat wij bedacht hebben\, maar je eigen handwerkje meenemen is ook\ngoed.\nDe data zijn: 16 en 30 januari en 13 en 27 februari. \nNieuwsgierig geworden? Kom gerust een keer kijken. Je hoeft echt geen\ngouden handjes te hebben\, wij staan klaar om te helpen!
URL:https://vbgheerenveen.nl/start/agenda/crea-ochtend-30-1/
LOCATION:Skoatterhûs\, Van Leeuwenhoekweg 8\, Oudeschoot\, Friesland\, 8451CN\, Nederland
CATEGORIES:Ochtend
ATTACH;FMTTYPE=image/jpeg:https://vbgheerenveen.nl/start/wp-content/uploads/2022/11/Crea-Ochtend-1.jpg
ORGANIZER;CN="VBG":MAILTO:info@vbgheerenveen.nl
END:VEVENT
BEGIN:VEVENT
DTSTART;TZID=Europe/Amsterdam:20230413T093000
DTEND;TZID=Europe/Amsterdam:20230413T110000
DTSTAMP:20260420T081631
CREATED:20230224T191855Z
LAST-MODIFIED:20230224T192005Z
UID:8039-1681378200-1681383600@vbgheerenveen.nl
SUMMARY:Doe-ochtend!
DESCRIPTION:Beste doeners! \nonze leden van de crea-doe-ochtend komen weer samen in de Fonteinkerk. \nOf het nu keramiek betreft\, haken\, naaien\, repareren\, het is elke keer weer anders! \nMeld je bij Geke voor deelname\, of kom een keer spontaan langs! \nHet is in principe om de 14 dagen op de donderdag om 9.30.
URL:https://vbgheerenveen.nl/start/agenda/doeochtend-13-4/
LOCATION:Fonteinkerk\, President Kennedylaan 15\, Heerenveen\, 8442 JE\, Nederland
CATEGORIES:Ochtend,Workshop
ATTACH;FMTTYPE=image/png:https://vbgheerenveen.nl/start/wp-content/uploads/2023/01/repaircafetextiel.png
END:VEVENT
BEGIN:VEVENT
DTSTART;TZID=Europe/Amsterdam:20230330T093000
DTEND;TZID=Europe/Amsterdam:20230330T110000
DTSTAMP:20260420T081631
CREATED:20230224T191733Z
LAST-MODIFIED:20230224T191839Z
UID:8034-1680168600-1680174000@vbgheerenveen.nl
SUMMARY:Doe-ochtend!
DESCRIPTION:Beste doeners! \nonze leden van de crea-doe-ochtend komen weer samen in de Fonteinkerk. \nOf het nu keramiek betreft\, haken\, naaien\, repareren\, het is elke keer weer anders! \nMeld je bij Geke voor deelname\, of kom een keer spontaan langs! \nHet is in principe om de 14 dagen op de donderdag om 9.30.
URL:https://vbgheerenveen.nl/start/agenda/doeochtend-30-3/
LOCATION:Fonteinkerk\, President Kennedylaan 15\, Heerenveen\, 8442 JE\, Nederland
CATEGORIES:Ochtend,Workshop
ATTACH;FMTTYPE=image/png:https://vbgheerenveen.nl/start/wp-content/uploads/2023/01/repaircafetextiel.png
END:VEVENT
BEGIN:VEVENT
DTSTART;TZID=Europe/Amsterdam:20230316T093000
DTEND;TZID=Europe/Amsterdam:20230316T110000
DTSTAMP:20260420T081631
CREATED:20230224T191525Z
LAST-MODIFIED:20230224T191713Z
UID:8029-1678959000-1678964400@vbgheerenveen.nl
SUMMARY:Doe-ochtend!
DESCRIPTION:Beste doeners! \nonze leden van de crea-doe-ochtend komen weer samen in de Fonteinkerk. \nOf het nu keramiek betreft\, haken\, naaien\, repareren\, het is elke keer weer anders! \nMeld je bij Geke voor deelname\, of kom een keer spontaan langs! \nHet is in principe om de 14 dagen op de donderdag om 9.30.
URL:https://vbgheerenveen.nl/start/agenda/doeochtend-16-3/
LOCATION:Fonteinkerk\, President Kennedylaan 15\, Heerenveen\, 8442 JE\, Nederland
CATEGORIES:Ochtend,Workshop
ATTACH;FMTTYPE=image/png:https://vbgheerenveen.nl/start/wp-content/uploads/2023/01/repaircafetextiel.png
END:VEVENT
BEGIN:VEVENT
DTSTART;TZID=Europe/Amsterdam:20230119T093000
DTEND;TZID=Europe/Amsterdam:20230119T113000
DTSTAMP:20260420T081631
CREATED:20230116T221907Z
LAST-MODIFIED:20230116T222503Z
UID:7871-1674120600-1674127800@vbgheerenveen.nl
SUMMARY:Textiel Repair Cafe
DESCRIPTION:Bent u wel eens de draad kwijt? Of vind u een gat in een kledingstuk? \nKom langs als je creatief bent of iets wilt (laten) repareren met textiel!\nKoffie en thee staat klaar 🙂 \nNeem contact op met Geke.
URL:https://vbgheerenveen.nl/start/agenda/repair-cafe-textiel/
LOCATION:Fonteinkerk\, President Kennedylaan 15\, Heerenveen\, 8442 JE\, Nederland
CATEGORIES:Ochtend
ATTACH;FMTTYPE=image/png:https://vbgheerenveen.nl/start/wp-content/uploads/2023/01/repaircafetextiel.png
ORGANIZER;CN="VBG":MAILTO:info@vbgheerenveen.nl
END:VEVENT
BEGIN:VEVENT
DTSTART;TZID=Europe/Amsterdam:20230105T093000
DTEND;TZID=Europe/Amsterdam:20230105T110000
DTSTAMP:20260420T081631
CREATED:20221126T091238Z
LAST-MODIFIED:20221126T091633Z
UID:7455-1672911000-1672916400@vbgheerenveen.nl
SUMMARY:Crea Ochtend
DESCRIPTION:Hallo allemaal! \nwe komen elke 2 weken bij elkaar om creatief bezig te zijn en fellowship te hebben.\nBen je creatief en wil je hier bij zijn? \nNeem contact op met Geke.
URL:https://vbgheerenveen.nl/start/agenda/crea-ochtend-3/
LOCATION:Fonteinkerk\, President Kennedylaan 15\, Heerenveen\, 8442 JE\, Nederland
CATEGORIES:Ochtend
ATTACH;FMTTYPE=image/jpeg:https://vbgheerenveen.nl/start/wp-content/uploads/2022/11/Crea-Ochtend.jpg
ORGANIZER;CN="VBG":MAILTO:info@vbgheerenveen.nl
END:VEVENT
BEGIN:VEVENT
DTSTART;TZID=Europe/Amsterdam:20221222T093000
DTEND;TZID=Europe/Amsterdam:20221222T110000
DTSTAMP:20260420T081631
CREATED:20221126T091238Z
LAST-MODIFIED:20221126T091528Z
UID:7454-1671701400-1671706800@vbgheerenveen.nl
SUMMARY:Crea Ochtend
DESCRIPTION:Hallo allemaal! \nwe komen elke 2 weken bij elkaar om creatief bezig te zijn en fellowship te hebben.\nBen je creatief en wil je hier bij zijn? \nNeem contact op met Geke.
URL:https://vbgheerenveen.nl/start/agenda/crea-ochtend-2/
LOCATION:Fonteinkerk\, President Kennedylaan 15\, Heerenveen\, 8442 JE\, Nederland
CATEGORIES:Ochtend
ATTACH;FMTTYPE=image/jpeg:https://vbgheerenveen.nl/start/wp-content/uploads/2022/11/Crea-Ochtend.jpg
ORGANIZER;CN="VBG":MAILTO:info@vbgheerenveen.nl
END:VEVENT
BEGIN:VEVENT
DTSTART;TZID=Europe/Amsterdam:20221208T093000
DTEND;TZID=Europe/Amsterdam:20221208T110000
DTSTAMP:20260420T081631
CREATED:20221126T091238Z
LAST-MODIFIED:20221126T091238Z
UID:7450-1670491800-1670497200@vbgheerenveen.nl
SUMMARY:Crea Ochtend
DESCRIPTION:Hallo allemaal! \nwe komen elke 2 weken bij elkaar om creatief bezig te zijn en fellowship te hebben.\nBen je creatief en wil je hier bij zijn? \nNeem contact op met Geke.
URL:https://vbgheerenveen.nl/start/agenda/crea-ochtend/
LOCATION:Fonteinkerk\, President Kennedylaan 15\, Heerenveen\, 8442 JE\, Nederland
CATEGORIES:Ochtend
ATTACH;FMTTYPE=image/jpeg:https://vbgheerenveen.nl/start/wp-content/uploads/2022/11/Crea-Ochtend.jpg
ORGANIZER;CN="VBG":MAILTO:info@vbgheerenveen.nl
END:VEVENT
END:VCALENDAR